BEGIN:VCALENDAR
VERSION:2.0
PRODID:-//So What Else Inc - ECPv6.15.20//NONSGML v1.0//EN
CALSCALE:GREGORIAN
METHOD:PUBLISH
X-WR-CALNAME:So What Else Inc
X-ORIGINAL-URL:https://sowhatelse.org
X-WR-CALDESC:Events for So What Else Inc
REFRESH-INTERVAL;VALUE=DURATION:PT1H
X-Robots-Tag:noindex
X-PUBLISHED-TTL:PT1H
BEGIN:VTIMEZONE
TZID:UTC
BEGIN:STANDARD
TZOFFSETFROM:+0000
TZOFFSETTO:+0000
TZNAME:UTC
DTSTART:20240101T000000
END:STANDARD
END:VTIMEZONE
BEGIN:VEVENT
DTSTART;TZID=UTC:20250518T110000
DTEND;TZID=UTC:20250518T150000
DTSTAMP:20260423T140749
CREATED:20250318T225755Z
LAST-MODIFIED:20250514T192606Z
UID:5454-1747566000-1747580400@sowhatelse.org
SUMMARY:Metro Move Fest (Rotary)
DESCRIPTION:Get Moving at Metro Move Fest!\nMay 18\, 2025 |  11 AM – 3 PM\nBethesda Chevy Chase High School – Outdoor Track\nJoin So What Else at Metro Move Fest\, a high-energy fitness festival designed for all ages and fitness levels! Whether you’re a seasoned athlete or just looking for a fun way to get active\, this event has something for everyone. \n🏃 Races & Team Challenges – Test your speed\, endurance\, and teamwork!\n🧘 Yoga & Exercise Demos – Try new workouts and movement techniques.\n🎯 Fun Fitness Activities – Engage in interactive challenges and games.\n💪 Community & Wellness – Connect with local fitness experts and organizations. \nBring your energy\, lace up your sneakers\, and join us for a day of movement\, motivation\, and community fun! \n⭐️ All ticket sales and donations go directly toward advancing So What Else’s food rescue and redistribution efforts! ⭐️  \nHow to get involved:\nAttend\nBuy tickets here to bring your family and friends to this fun day of movement! \n\nContact Executive Director of Hunger Relief Megan Joe at mjoe@sowhatelse.org to pre-register for the So What Else Donation Derby\, where teams of two will compete in a relay race to fill donation bags with dried goods.\n\nDonate\n Sponsor a family to attend the event and pick up food for their families. Donate $50 to sponsor a family of 4! \nPlease note “Ticket donation to So What Else” in your donation.  \nVolunteer\nCome help with set-up\, activities and food distribution to support your community! \n\nIndividuals: Sign up for a session below:\n\n10am-2pm\n12pm-4pm\n\n\nTeams/Groups/Organizations: Reach out to volunteer@sowhatelse.org 
URL:https://sowhatelse.org/event/metro-move-fest-rotary/
LOCATION:4301 East-West Hwy\, 4301 East-West Hwy\, Bethesda\, MD\, 20814\, United States
END:VEVENT
END:VCALENDAR