BEGIN:VCALENDAR
VERSION:2.0
PRODID:-//So What Else Inc - ECPv6.15.20//NONSGML v1.0//EN
CALSCALE:GREGORIAN
METHOD:PUBLISH
X-ORIGINAL-URL:https://sowhatelse.org
X-WR-CALDESC:Events for So What Else Inc
REFRESH-INTERVAL;VALUE=DURATION:PT1H
X-Robots-Tag:noindex
X-PUBLISHED-TTL:PT1H
BEGIN:VTIMEZONE
TZID:UTC
BEGIN:STANDARD
TZOFFSETFROM:+0000
TZOFFSETTO:+0000
TZNAME:UTC
DTSTART:20240101T000000
END:STANDARD
END:VTIMEZONE
BEGIN:VEVENT
DTSTART;TZID=UTC:20250531T183000
DTEND;TZID=UTC:20250531T223000
DTSTAMP:20260423T121952
CREATED:20250318T230938Z
LAST-MODIFIED:20250318T230938Z
UID:5467-1748716200-1748730600@sowhatelse.org
SUMMARY:Summer Soiree: A Night in Amalfi
DESCRIPTION:A Night in Amalfi\, an exclusive evening of dinner\, drinks & entertainment to benefit the So What Else Food Rescue Bank on Saturday\, May 31st. The dress code is Italian Riviera chic. 100% of proceeds go towards food recovery and redistribution efforts in the Greater Baltimore-Washington region. \nFor more information click here.
URL:https://sowhatelse.org/event/summer-soiree-a-night-in-amalfi/
END:VEVENT
END:VCALENDAR