BEGIN:VCALENDAR
VERSION:2.0
PRODID:-//So What Else Inc - ECPv6.15.20//NONSGML v1.0//EN
CALSCALE:GREGORIAN
METHOD:PUBLISH
X-ORIGINAL-URL:https://sowhatelse.org
X-WR-CALDESC:Events for So What Else Inc
REFRESH-INTERVAL;VALUE=DURATION:PT1H
X-Robots-Tag:noindex
X-PUBLISHED-TTL:PT1H
BEGIN:VTIMEZONE
TZID:UTC
BEGIN:STANDARD
TZOFFSETFROM:+0000
TZOFFSETTO:+0000
TZNAME:UTC
DTSTART:20240101T000000
END:STANDARD
END:VTIMEZONE
BEGIN:VEVENT
DTSTART;TZID=UTC:20251220T050000
DTEND;TZID=UTC:20251220T150000
DTSTAMP:20260423T075604
CREATED:20251209T231819Z
LAST-MODIFIED:20251219T135629Z
UID:6175-1766206800-1766242800@sowhatelse.org
SUMMARY:Holiday Day of Giving
DESCRIPTION:Holiday Day of Giving 2025\nDate: Saturday\, December 20\nTime: 5:00 AM-3:00 PM (Volunteer in shifts!)\nJoin us for a festive day of giving back to families in need! Volunteers will help distribute toys\, a hot meal\, Christmas trees\, 75 lbs of food\, and firewood to brighten the holidays for our community. \nEnjoy hot cocoa and coffee in the morning\, and families with kids can participate in fun holiday art projects while volunteering together. \nSpecial Highlights:\n11:00 AM: Event Tour \n11:30 AM-12:00 PM: Q&A Session \n12:00 PM: Lunch for Volunteers \nBest Dressed Holiday Outfit Award: Show off your festive style! \nHow to Get Involved:\nVolunteer: Sign up for a shift here and help us spread the joy this holiday season! \nSponsor: Companies interested in leveling up their impact can contact Executive Director Dave Silbert at: dsilbert@sowhatelse.org for more information on sponsorships. \nDonate Food: This year\, we are extending a heartfelt invitation to restaurants across the region to partner with us by providing free soup for families in need during the event. Your support can directly touch hundreds of lives in a meaningful way. Restaurants interested in partnering are encouraged to contact us Hunger Relief Director Megan Joe at mjoe@sowhatelse.org to coordinate contributions.
URL:https://sowhatelse.org/event/holiday-day-of-giving/
LOCATION:4924 Wyaconda Rd\, North Bethesda\, MD 20852\, 4924 Wyaconda Rd\, North Bethesda\, MD\, 20852\, United States
CATEGORIES:Volunteer Event
END:VEVENT
BEGIN:VEVENT
DTSTART;VALUE=DATE:20260129
DTEND;VALUE=DATE:20260130
DTSTAMP:20260423T075604
CREATED:20260121T212836Z
LAST-MODIFIED:20260121T215103Z
UID:6261-1769644800-1769731199@sowhatelse.org
SUMMARY:Bonefish Grill Give Back Night
DESCRIPTION:Dine at the Gaithersburg Bonefish Grill location on January 29\, 2026 and show this flyer for 10% of net sales from the event to be donated to So What Else!
URL:https://sowhatelse.org/event/bonefish-grill-give-back-night/
LOCATION:Bonefish Grill\, 82 Market Street\, Gaithersburg\, MD\, 20878\, United States
CATEGORIES:Fundraising event
ATTACH;FMTTYPE=image/jpeg:https://sowhatelse.org/wp-content/uploads/2026/01/So-What-Else-Give-Back-Night.jpg
END:VEVENT
BEGIN:VEVENT
DTSTART;TZID=UTC:20260212T163000
DTEND;TZID=UTC:20260212T183000
DTSTAMP:20260423T075604
CREATED:20260121T213628Z
LAST-MODIFIED:20260121T215006Z
UID:6266-1770913800-1770921000@sowhatelse.org
SUMMARY:Kendra Scott Gives Back Event
DESCRIPTION:Join us for a Kendra Gives Back event!\nThursday\, February 12th | 4:30pm–6:30pm \nKendra Scott Tysons Corner Center(2nd floor\, next to the Bloomingdale’s wing) \n20% of all sales will go directly back to So What Else \nCan’t make it in store?\nShop online & use code GIVEBACK-LAXIW at checkout or place a phone order at 703-248-7013. \nMust mention So What ElseGiveback code valid all day 2/12–2/14
URL:https://sowhatelse.org/event/kendra-scott-gives-back-event/
LOCATION:Kendra Scott – Tysons Corner Center\, 8093U Tysons Corner Center\, Tysons\, VA\, 22102\, United States
CATEGORIES:Fundraising event
ATTACH;FMTTYPE=image/png:https://sowhatelse.org/wp-content/uploads/2026/01/In-Person-KGB-SWE-Corrected-1.png
END:VEVENT
BEGIN:VEVENT
DTSTART;TZID=UTC:20260222T100000
DTEND;TZID=UTC:20260222T160000
DTSTAMP:20260423T075604
CREATED:20260121T214337Z
LAST-MODIFIED:20260121T221204Z
UID:6272-1771754400-1771776000@sowhatelse.org
SUMMARY:Pearl & Rose x TGIF Pickleball Palooza
DESCRIPTION:Join us for the 2nd Annual Pickleball Palooza — a feel-good day on the courts for midlife women ages 45–65 who are looking for laughter\, connection\, and a fun way to spend the day with other amazing women. \nThis year’s event is proudly partnered with Pearl & Rose and Teach Give Inspire Fridays (TGIF) and all proceeds of this event benefits So What Else! \nWhether you’re brand new to the game or ready to rally\, expect laughter\, connection\, encouragement\, and the kind of energy that makes you want to stay long after the last point is played. No matter your level of pickleball prowess\, there is something for everyone at Pickleball Palooza. \nEvent Schedule\n\n10:00–11:30 AM – Morning Clinics (Newbie & Beginner)\n12:00–12:30 PM – Tournament Check-In\n12:30 PM\n\nWelcome remarks from David Silbert of So What Else?\nGroup warm-up led by Amy Peters of Shape of Strength\n\n\n1:00 PM – Let the games begin (Advanced Beginner and Intermediate+)\nBy 4:00 PM – Tournament wraps up\n(Feel free to stay\, cheer\, and socialize!)\n\nREGISTER HERE
URL:https://sowhatelse.org/event/pearl-rose-x-tgif-pickleball-palooza/
LOCATION:Dill Dinkers\, 4942 Boiling Brook Pkwy\, North Bethesda\, MD\, 20852\, United States
CATEGORIES:Fundraising event
ATTACH;FMTTYPE=image/png:https://sowhatelse.org/wp-content/uploads/2026/01/Pickleball-Palooza.png
END:VEVENT
BEGIN:VEVENT
DTSTART;TZID=UTC:20260404T103000
DTEND;TZID=UTC:20260404T103000
DTSTAMP:20260423T075604
CREATED:20260303T203349Z
LAST-MODIFIED:20260303T210028Z
UID:6351-1775298600-1775298600@sowhatelse.org
SUMMARY:Capital Classic
DESCRIPTION:The 53rd Hoop Culture Capital Classic (presented by Events DC) returns to Capital One Arena on Saturday\, April 4\, 2026. One of the nation’s most prestigious high school all-star showcases\, the Capital Classic brings together the next generation of basketball stars\, featuring top DMV talent vs. elite players from across the United States in an unforgettable doubleheader experience. \nAt a Glance\n\nDate: Saturday\, April 4\, 2026\nLocation: Capital One Arena (601 F Street NW\, Washington\, DC 20004)\nDoors Open: 9:30 AM\nTip-Off: 10:30 AM\nTickets: On sale now (starting at $25)\n\nGame Schedule\n\n10:30 AM — Vicki Brick-Zupancic DMV Girls All-Star Game\n12:00 PM — Boys Capital Classic Game\n\nWhy It Matters\nThis event uses its historic platform to support meaningful community causes: \nSo What Else will receive proceeds as well as our entire youth network will be able to come for free as well!\n\nThe Girls All-Star Game benefits the Ovarian Cancer Research Alliance\nThe Boys Game supports the Boys & Girls Clubs of Greater Washington\nThrough the Capital Classic Youth Foundation\, the event also helps expand access and opportunities for young athletes on and off the court.\n\nHow To Get Involved\n\nWant to attend the event? Buy tickets here \nInterested in sponsoring the event or a SWE youth group’s attendance\, bringing your own youth group\, volunteering\, or donating? Reach out to Dave Silbert at dsilbert@sowhatelse.org
URL:https://sowhatelse.org/event/capital-classic/
LOCATION:Capital One Arena\, 601 F St NW\, Washington\, DC\, DC\, 20004\, United States
ATTACH;FMTTYPE=image/png:https://sowhatelse.org/wp-content/uploads/2026/03/Capital-Classic-2026-Social-Media-Post-e1772571605773.png
END:VEVENT
BEGIN:VEVENT
DTSTART;TZID=UTC:20260418T090000
DTEND;TZID=UTC:20260418T130000
DTSTAMP:20260423T075604
CREATED:20260303T204619Z
LAST-MODIFIED:20260415T192629Z
UID:6360-1776502800-1776517200@sowhatelse.org
SUMMARY:6th Anniversary Open House of the So What Else Food Rescue Bank
DESCRIPTION:Join us as we celebrate six years of impact at the So What Else Food Rescue Bank! This special Open House is a day of volunteering\, connection\, and celebration in honor of the incredible community that makes our work possible. \nWe welcome everyone to join us to celebrate our 6th year of fighting food insecurity! Lend a hand in distributing food\, take a behind-the-scenes tour of the food rescue bank\, and connect with supporters\, partners and volunteers. \nEvent Details\n\nDate: Saturday\, April 18\nTime: 9am-1pm (Volunteer shifts available 7am-3pm)\nLocation: So What Else Food Rescue Bank – 4924 Wyaconda Rd\, North Bethesda\, Maryland\n\nAgenda\n\n9-10am: Welcome Breakfast\n10:30am: Gather for Official Event Kickoff\n10:45am: Remarks from So What Else & Speakers\n11:15am-12pm: Food Bank Tour and Q&A\n12-1pm: Volunteer Appreciation Lunch sponsored by Mamma Lucia\n\n \nHow To Get Involved\n\nVolunteer with us! Shifts are available between 7am-3pm. Sign up online here or reach out to volunteer@sowhatelse.org to sign up for a shift.\nFor information on sponsorships\, partnerships\, and other involvement in the event\, contact info@sowhatelse.org
URL:https://sowhatelse.org/event/6th-anniversary-open-house-of-the-so-what-else-food-rescue-bank/
LOCATION:4924 Wyaconda Rd\, North Bethesda\, MD 20852\, 4924 Wyaconda Rd\, North Bethesda\, MD\, 20852\, United States
CATEGORIES:Volunteer Event
ATTACH;FMTTYPE=image/png:https://sowhatelse.org/wp-content/uploads/2026/03/6th-Anniversary-of-Food-Rescue-Bank-IG-post-1-e1772571519880.png
END:VEVENT
BEGIN:VEVENT
DTSTART;TZID=UTC:20260506T190000
DTEND;TZID=UTC:20260506T190000
DTSTAMP:20260423T075604
CREATED:20260407T003042Z
LAST-MODIFIED:20260407T003257Z
UID:6477-1778094000-1778094000@sowhatelse.org
SUMMARY:Cards for a Cause
DESCRIPTION:Cards for a Cause – Charity Poker Tournament\nJoin us for Cards for a Cause\, an exciting charity poker tournament where every hand played helps support So What Else and Nourish Now in their mission to fight food insecurity and serve local communities. Hosted by the Progress Club & MGM National Harbor! \n\nTest your poker skills in a lively\, competitive tournament.\nEnjoy a night of fun\, camaraderie\, and giving back.\nEvery buy-in makes an impact—helping provide food and essential resources to those in need.\n\nWhether you’re a seasoned player or just looking for a great night out\, come go all in for a cause that matters! \n📅 Wednesday\, May 6\, 2026 \n⏰ 5:45PM Registration + Dinner & Drinks | 7PM Cards Dealt \n📍 Progress Club – 1610 E. Jefferson St. Rockville\, MD 20852 \n$100 Buy-In (pre-tournament)|$125 at the door | $50 Social Fee (Dinner & Drinks only; non-player) \nWinner receives Free entry into MGM Poker Tournament plus overnight stay and $200 Restaurant Voucher! \nRegister now
URL:https://sowhatelse.org/event/cards-for-a-cause-2026/
LOCATION:1610 E. Jefferson St. Rockville\, MD 20852\, 1610 E Jefferson St\,\, Rockville\, MD\, 20852\, United States
CATEGORIES:Fundraising event,Sponsor
ATTACH;FMTTYPE=image/png:https://sowhatelse.org/wp-content/uploads/2026/04/Screenshot-2026-04-06-at-8.27.07-PM.png
END:VEVENT
BEGIN:VEVENT
DTSTART;TZID=UTC:20260516T183000
DTEND;TZID=UTC:20260516T223000
DTSTAMP:20260423T075604
CREATED:20260303T205733Z
LAST-MODIFIED:20260304T225159Z
UID:6367-1778956200-1778970600@sowhatelse.org
SUMMARY:4th Annual Summer Soirée: Peace\, Love & Nourish
DESCRIPTION:The 4th Annual So What Else Summer Soiree is an exclusive evening of dinner\, drinks and entertainment to benefit the So What Else Food Rescue Bank. \nEvent Details\n\nDate: Saturday\, May 16\nTime: 6:30pm-10:3opm\nLocation: Potomac\, Maryland (Exact location provided upon registration)\nTicket Price: $300/ticket\nRSVP by: May 2\n\nThis year’s theme is Peace\, Love & Nourish. The dress code is elevated hippie. \n100% of proceeds will go toward food recovery and distribution efforts in the Greater Baltimore-Washington region. \nHow To Get Involved\nTo purchase tickets to the event or for information on sponsorships\, please visit the event landing page here.
URL:https://sowhatelse.org/event/4th-annual-summer-soiree-peace-love-nourish/
LOCATION:Potomac\, Maryland
CATEGORIES:Fundraising event
ATTACH;FMTTYPE=image/jpeg:https://sowhatelse.org/wp-content/uploads/2026/03/Instagram-1080x1350-1-e1772571391162.jpg
END:VEVENT
BEGIN:VEVENT
DTSTART;TZID=UTC:20260517T110000
DTEND;TZID=UTC:20260517T150000
DTSTAMP:20260423T075604
CREATED:20260303T211425Z
LAST-MODIFIED:20260415T144514Z
UID:6376-1779015600-1779030000@sowhatelse.org
SUMMARY:Metro Move Fest
DESCRIPTION:Metro Move Fest is a community-driven festival designed to bring people together through movement\, connection\, and purpose. \nThis inclusive event will feature a mix of competitive and recreational movement experiences\, fitness activities\, and opportunities for all ages and ability levels to participate. Local nonprofits and community organizations will have the opportunity to engage attendees\, raise awareness\, and fundraise through interactive activities\, while businesses can get involved as vendors\, activity partners\, or volunteers. \nEvent Details\n\nDate: Sunday\, May 17\nTime: 11am-3pm\nLocation: Bethesda Chevy Chase High School – 4301 East-West Highway\, Bethesda MD 20814\nCost: Starting at $10\n\nSo What Else is the proud sponsor of the SWE Donation Derby!\nSaddle up for a fun\, fast-paced race that’s all about teamwork\, community\, and giving back. The So What Else Bag Donation Derby is a one-of-a-kind\, Kentucky Derby–inspired event. It’s got everything from derby hats to taped-up hooves! \nHow To Get Involved\n⭐️ Ticket sales and donations go directly toward advancing So What Else’s food rescue and redistribution efforts ⭐️ \nOur goal is to send 200 families that So What Else serves to the event for free! \nAttend\nBuy tickets here to bring your family and friends to this fun day of movement! \nDonate\nSponsor a family to attend the event and pick up food for their families. Donate $50 to sponsor a family of 4! \nPlease note “Ticket donation to So What Else” in your donation.  \nVolunteer\nCome help with set-up\, activities and food distribution to support your community! \n\nVolunteer Shift – 10:30 AM – 3:30 PM: Sign up here \nVolunteer Shift – 10:30 AM – 1:30 PM: Sign up here \nVolunteer Shift – 12:30 – 3:30 PM: Sign up here\n\nTeams/Groups/Organizations: Reach out to volunteer@sowhatelse.org 
URL:https://sowhatelse.org/event/metro-move-fest/
LOCATION:Bethesda Chevy Chase High School\, 4301 East-West Hwy\, Bethesda\, MD\, 20814\, United States
ATTACH;FMTTYPE=image/png:https://sowhatelse.org/wp-content/uploads/2026/03/Metro-Move-Fest-2026-e1772572402717.png
END:VEVENT
BEGIN:VEVENT
DTSTART;TZID=UTC:20260613T183000
DTEND;TZID=UTC:20260613T213000
DTSTAMP:20260423T075604
CREATED:20260422T150222Z
LAST-MODIFIED:20260422T150412Z
UID:6517-1781375400-1781386200@sowhatelse.org
SUMMARY:A Night of Local & Global Unity
DESCRIPTION:Benefitting So What Else\, KPC Buddhist Relief\, & An Iranian Charity \nJoin us for an evening of unity\, connection\, and cultural celebration. Through music\, art\, and storytelling\, we will come together to uplift and inspire. This special event supports So What Else\, KPC Buddhist Relief\, and initiatives serving the Persian community. Experience a night that honors shared humanity while celebrating diverse traditions. We would be honored by your presence for this meaningful and memorable gathering. \nEvent Details\n\nDate: Saturday\, June 13\, 2026\nTime: 6:30 PM\nLocation: Javid Residence\, 11816 Smoketree Rd\, Potomac\, MD 20854\nCost: Starting at $125\n\nBuy tickets here 
URL:https://sowhatelse.org/event/global-unity/
LOCATION:Javid Residence\, 11816 Smoketree Rd\, Potomac\, 20854\, United States
ATTACH;FMTTYPE=image/png:https://sowhatelse.org/wp-content/uploads/2022/04/logo-img.png
END:VEVENT
END:VCALENDAR