BEGIN:VCALENDAR
VERSION:2.0
PRODID:-//So What Else Inc - ECPv6.15.20//NONSGML v1.0//EN
CALSCALE:GREGORIAN
METHOD:PUBLISH
X-WR-CALNAME:So What Else Inc
X-ORIGINAL-URL:https://sowhatelse.org
X-WR-CALDESC:Events for So What Else Inc
REFRESH-INTERVAL;VALUE=DURATION:PT1H
X-Robots-Tag:noindex
X-PUBLISHED-TTL:PT1H
BEGIN:VTIMEZONE
TZID:UTC
BEGIN:STANDARD
TZOFFSETFROM:+0000
TZOFFSETTO:+0000
TZNAME:UTC
DTSTART:20220101T000000
END:STANDARD
END:VTIMEZONE
BEGIN:VEVENT
DTSTART;TZID=UTC:20231118T120000
DTEND;TZID=UTC:20231118T150000
DTSTAMP:20260423T072713
CREATED:20231117T203428Z
LAST-MODIFIED:20231117T203518Z
UID:3558-1700308800-1700319600@sowhatelse.org
SUMMARY:Community Wellness Day
DESCRIPTION:Join So What Else and Be Great DC for Community Wellness Day. We will be handing out free groceries and household items to the community\, so don’t miss out!
URL:https://sowhatelse.org/event/community-wellness-day/
LOCATION:1233 Valley Ave SE\, Washington\, DC\, 1233 Valley Ave SE\, SE\, DC\, United States
END:VEVENT
BEGIN:VEVENT
DTSTART;TZID=UTC:20231116T100000
DTEND;TZID=UTC:20231116T130000
DTSTAMP:20260423T072713
CREATED:20231109T004752Z
LAST-MODIFIED:20231109T004925Z
UID:3542-1700128800-1700139600@sowhatelse.org
SUMMARY:Volunteers Needed! Mega-Monthly Food Giveaway
DESCRIPTION:We are looking for volunteers to help support our monthly Mega-Monthly Food Giveaway with The Food Project. Click here to sign up & learn more! \n 
URL:https://sowhatelse.org/event/volunteers-needed-mega-monthly-food-giveaway/
LOCATION:424 South Pulaski Street\, Baltimore\, MD 21223
END:VEVENT
BEGIN:VEVENT
DTSTART;TZID=UTC:20231111T063000
DTEND;TZID=UTC:20231111T113000
DTSTAMP:20260423T072713
CREATED:20230928T210125Z
LAST-MODIFIED:20240618T071947Z
UID:3448-1699684200-1699702200@sowhatelse.org
SUMMARY:Launch Cares Race
DESCRIPTION:Launch Physical Therapy & Fitness Coaching is a Rockville-based woman-owned small business that partners with existing charities in the DMV area through LaunchCARES with the joint mission to change lives through fitness & wellness. \nLaunch holds an annual\, timed 5k/10k Charity Race each year to raise funds for their non-profit partners. This year\, they have chosen So What Else\, as well as The Greater Rockville Chamber Of Commerce\, as the recipients! We are looking for participants and volunteers to give their time on behalf of So What Else at this year’s race. \nTo learn more and sign up\, visit: https://runsignup.com/Race/MD/Rockville/LaunchCaresCharityRace
URL:https://sowhatelse.org/event/launch-cares-race/
LOCATION:King Farm\, 702 King Farm Blvd\, Rockville\, MD\, 20850\, United States
END:VEVENT
BEGIN:VEVENT
DTSTART;TZID=UTC:20231103T190000
DTEND;TZID=UTC:20231103T220000
DTSTAMP:20260423T072713
CREATED:20230809T234531Z
LAST-MODIFIED:20230809T235317Z
UID:3178-1699038000-1699048800@sowhatelse.org
SUMMARY:So What Else 2023 Gala
DESCRIPTION:Join us for a night of fun and festivities\, all to help support our mission! \nSo What Else has continued to rise to the challenges faced by underserved communities in the local area. Our dedicated team has persevered in running high-quality youth development programs and fighting food insecurity. Please join us in celebrating the crucial work we do. \nTogether we will enjoy delicious food and drinks\, along with great entertainment. Our feature performance of the night will be comedian Danny Rouhier from the Grant and Danny Show. You will not want to miss our raffle prizes and silent auctions. \nTickets and more on our special event page.
URL:https://sowhatelse.org/event/so-what-else-gala/
LOCATION:Lakewood Country Club\, 13901 Glen Mill Rd\, Rockville\, MD\, 20850\, United States
ATTACH;FMTTYPE=image/png:https://sowhatelse.org/wp-content/uploads/2023/08/sowhatelse-gala.png
END:VEVENT
BEGIN:VEVENT
DTSTART;TZID=UTC:20231031T160000
DTEND;TZID=UTC:20231031T180000
DTSTAMP:20260423T072713
CREATED:20230928T205052Z
LAST-MODIFIED:20230928T205320Z
UID:3442-1698768000-1698775200@sowhatelse.org
SUMMARY:Trunk or Treat @ Rockville Housing
DESCRIPTION:Join So What Else for a spooktacular evening at Rockville Housing! Decorate your trunks and bring treats to share with our students and residents of the neighborhood! Bring your children to the community center for a free evening of trunk-or-treating. \nCome dressed up — prizes awarded for best costumes!
URL:https://sowhatelse.org/event/trunk-or-treat-rockville-housing/
LOCATION:Rockville Housing Hub\, 1201 First Street\, Rockville\, MD\, 20850\, United States
END:VEVENT
BEGIN:VEVENT
DTSTART;TZID=UTC:20231023T080000
DTEND;TZID=UTC:20231023T160000
DTSTAMP:20260423T072713
CREATED:20230725T195137Z
LAST-MODIFIED:20230725T195359Z
UID:3092-1698048000-1698076800@sowhatelse.org
SUMMARY:So What Else & Mamma Lucia's 7th Annual Golf Tournament
DESCRIPTION:Please save the date and plan to join us on October 23rd for a fun day of friendly competition\, delicious food\, and more! \nPlay golf for a good cause! Mark your calendar to “play it forward” by taking part in the 7th Annual SWE/Mamma Lucia Golf Tournament at Norbeck Country Club on October 23\, 2023.  There will be breakfast\, lunch\, and prizes for all who participate. Thanks to our wonderful 2022 sponsors and players\, the tournament raised nearly $75\,000 last year.  With the ever-increasing need for food security and accessible youth programming\, we are counting on meeting – and beating – that target again.  \nThis year we will be simultaneously hosting our first pickleball tournament! Beginner and Intermediate teams are available. \nClick here to learn more\, register\, sponsor\, or donate in support here!
URL:https://sowhatelse.org/event/so-what-else-mamma-lucias-7th-annual-golf-tournament/
LOCATION:Norbeck Country Club\, 1720 Cashell Road\, Rockville\, MD\, 20853\, United States
END:VEVENT
BEGIN:VEVENT
DTSTART;TZID=UTC:20231021T130000
DTEND;TZID=UTC:20231021T150000
DTSTAMP:20260423T072713
CREATED:20230928T210733Z
LAST-MODIFIED:20230928T210733Z
UID:3453-1697893200-1697900400@sowhatelse.org
SUMMARY:Book-O-Ween
DESCRIPTION:Details coming soon!
URL:https://sowhatelse.org/event/book-o-ween/
LOCATION:Anacostia Skate Pavilion\, 1500 Anacostia Drive SE\, DC\, 20020\, United States
END:VEVENT
BEGIN:VEVENT
DTSTART;TZID=UTC:20231020T173000
DTEND;TZID=UTC:20231020T210000
DTSTAMP:20260423T072713
CREATED:20231013T034215Z
LAST-MODIFIED:20231013T034549Z
UID:3459-1697823000-1697835600@sowhatelse.org
SUMMARY:Dia de los Muertos Movie Night Fundraiser
DESCRIPTION:Join us for a movie night celebration of the upcoming Dia de los Muertos holiday. We’ll be showing Disney’s “Encanto” at our Montgomery County pantry at 4924 Wyaconda Rd\, North Bethesda\, MD. Tickets are $10 per person at the door\, and popcorn and refreshments will be available for purchase at the event. All proceeds will go towards our hunger relief and youth development programs across the region\, so don’t miss out! To RSVP\, send an email to mjoe@sowhatelse.org! \n  \n 
URL:https://sowhatelse.org/event/dia-de-los-muertos-movie-night-fundraiser/
LOCATION:MOCO Food Pantry\, 4924 Wyaconda Road\, Rockville\, MD\, 20852\, United States
END:VEVENT
BEGIN:VEVENT
DTSTART;TZID=UTC:20230930T110000
DTEND;TZID=UTC:20230930T140000
DTSTAMP:20260423T072713
CREATED:20230928T204659Z
LAST-MODIFIED:20230928T204659Z
UID:3438-1696071600-1696082400@sowhatelse.org
SUMMARY:DC ReEngagement Tabling Event
DESCRIPTION:In partnership with CC Prep\, So What Else will be helping to provide free childcare at this event! For adults looking to get their GED or learn a trade\, stop by for an event jampacked with helpful information!
URL:https://sowhatelse.org/event/dc-reengagement-tabling-event/
LOCATION:Oxon Run Park (Near Wheeler Terrace)\, 1200 Mississippi Ave SE\, Washington DC\, Washington DC\, 20032
END:VEVENT
BEGIN:VEVENT
DTSTART;TZID=UTC:20230929T120000
DTEND;TZID=UTC:20230929T150000
DTSTAMP:20260423T072713
CREATED:20230911T193808Z
LAST-MODIFIED:20230911T193808Z
UID:3376-1695988800-1695999600@sowhatelse.org
SUMMARY:Voter Registration and Community Meet-Up
DESCRIPTION:
URL:https://sowhatelse.org/event/voter-registration-and-community-meet-up/
LOCATION:MD
END:VEVENT
BEGIN:VEVENT
DTSTART;VALUE=DATE:20230926
DTEND;VALUE=DATE:20231002
DTSTAMP:20260423T072713
CREATED:20230919T154656Z
LAST-MODIFIED:20230919T154656Z
UID:3420-1695686400-1696204799@sowhatelse.org
SUMMARY:So What Else & The Wine Collective Presents: Give Back For a Glass
DESCRIPTION:
URL:https://sowhatelse.org/event/so-what-else-the-wine-collective-presents-give-back-for-a-glass/
LOCATION:The Wine Collective\, 1700 W 41st St\, Suite 490\, Baltimore\, MD\, 21211\, United States
END:VEVENT
BEGIN:VEVENT
DTSTART;TZID=UTC:20230916T120000
DTEND;TZID=UTC:20230916T193000
DTSTAMP:20260423T072713
CREATED:20230818T175953Z
LAST-MODIFIED:20230905T153429Z
UID:3216-1694865600-1694892600@sowhatelse.org
SUMMARY:Love Groove Festival
DESCRIPTION:Love Groove Festival is a Baltimore-based music\, art\, film\, and educational festival designed to highlight\, showcase\, and compensate emerging artists.  \nWhile the festival runs from 12:00 p.m. to 7:00 p.m.\, this year\, So What Else will be attending and handing out food between 12:00 p.m. and 1:00 p.m.  \nWe hope you’ll stop by for an incredible day celebrating our Baltimore community and creative scene!
URL:https://sowhatelse.org/event/love-groove-festival/
LOCATION:Robert C Marshall Park\, 1201 Pennsylvania Avenue\, Baltimore\, 21217\, United States
END:VEVENT
BEGIN:VEVENT
DTSTART;TZID=UTC:20230911T100000
DTEND;TZID=UTC:20230911T120000
DTSTAMP:20260423T072713
CREATED:20230818T174754Z
LAST-MODIFIED:20230818T175017Z
UID:3198-1694426400-1694433600@sowhatelse.org
SUMMARY:Frederick Community Food Distribution
DESCRIPTION:Stop by our pop-up food distribution in Frederick\, Maryland\, with our partner\, I Believe in Me. Food is served on a first-come\, first-serve basis and will include items such as produce\, non-perishable goods\, and more. For more info\, call 240-705-4345 or email meganjoe0703@gmail.com. \n \n 
URL:https://sowhatelse.org/event/frederick-community-food-distribution/
LOCATION:Golden Mile @ Frederick Town Mall
END:VEVENT
BEGIN:VEVENT
DTSTART;TZID=UTC:20230825T110000
DTEND;TZID=UTC:20230825T130000
DTSTAMP:20260423T072713
CREATED:20230818T175611Z
LAST-MODIFIED:20230818T175611Z
UID:3212-1692961200-1692968400@sowhatelse.org
SUMMARY:Belmont Back to School Event
DESCRIPTION:For students and family members of Belmont Elementary\, So What Else will be tabling and giving out free groceries at this Back to School event to help you ring in the school year on a good note! We hope to see you there!
URL:https://sowhatelse.org/event/belmont-back-to-school-event/
LOCATION:Belmont ES\, 1406 N Ellamont St\, Baltimore\, MD\, 21216\, United States
END:VEVENT
BEGIN:VEVENT
DTSTART;TZID=UTC:20230823T170000
DTEND;TZID=UTC:20230823T200000
DTSTAMP:20260423T072713
CREATED:20230818T180625Z
LAST-MODIFIED:20230818T180625Z
UID:3221-1692810000-1692820800@sowhatelse.org
SUMMARY:FOOD | MUSIC | OPEN MIC | BALTIMORE
DESCRIPTION:
URL:https://sowhatelse.org/event/food-music-open-mic-baltimore/
LOCATION:349 S Pulaski\, 349 S Pulaski\, Baltimore\, MD\, 21223\, United States
END:VEVENT
BEGIN:VEVENT
DTSTART;TZID=UTC:20230819T140000
DTEND;TZID=UTC:20230819T170000
DTSTAMP:20260423T072713
CREATED:20230818T175319Z
LAST-MODIFIED:20230818T175344Z
UID:3206-1692453600-1692464400@sowhatelse.org
SUMMARY:Back to School Bash
DESCRIPTION:Join us for a Back to School Bash where So What Else will be giving away food to support Baltimore City students!
URL:https://sowhatelse.org/event/back-to-school-bash/
LOCATION:424 South Pulaski Street\, Baltimore\, MD 21223
END:VEVENT
BEGIN:VEVENT
DTSTART;TZID=UTC:20230814T100000
DTEND;TZID=UTC:20230814T120000
DTSTAMP:20260423T072713
CREATED:20230718T012106Z
LAST-MODIFIED:20230718T012106Z
UID:3060-1692007200-1692014400@sowhatelse.org
SUMMARY:Community Food Distribution - Frederick\, MD
DESCRIPTION:Stop by our pop-up food distribution in Frederick\, Maryland\, with our partner\, I Believe In Me. Food is served on a first-come\, first-served basis and will include items such as produce\, non-perishable goods\, and more. For more info\, call 240-705-4345 or email meganjoe0703@gmail.com. \n \n 
URL:https://sowhatelse.org/event/community-food-distribution-frederick-md/
LOCATION:MD
END:VEVENT
BEGIN:VEVENT
DTSTART;TZID=UTC:20230812T130000
DTEND;TZID=UTC:20230812T140000
DTSTAMP:20260423T072713
CREATED:20230718T170048Z
LAST-MODIFIED:20230718T170048Z
UID:3083-1691845200-1691848800@sowhatelse.org
SUMMARY:Highland Back-to-School Event
DESCRIPTION:So What Else will be attending and helping to support this event with donations of school supplies and other items for the students.
URL:https://sowhatelse.org/event/highland-back-to-school-event/
LOCATION:Highland Back-to-School Event\, 662 Atlantic Street\, SE Washington DC\, 20032\, United States
END:VEVENT
BEGIN:VEVENT
DTSTART;TZID=UTC:20230808T100000
DTEND;TZID=UTC:20230810T150000
DTSTAMP:20260423T072713
CREATED:20230508T173006Z
LAST-MODIFIED:20230508T173006Z
UID:2789-1691488800-1691679600@sowhatelse.org
SUMMARY:Session Three: 2023 Student Leadership Institute with So What Else/Project Change
DESCRIPTION:For Rising Sixth Through Rising Eighth Graders \nIn this interactive\, fun program\, participants will have the opportunity to participate in \n\nProject identification and planning of community service activities\nPersonal goal-setting and self-assessment\nLeadership skills development\nCompleting 3 community service projects\n\nThrough participation in this program\, youth will develop competencies in program planning and understand the value of participating in volunteer activities\, both personally and for the benefit of their community. \nStudents will receive 10 SSL Hours. \nThe Student Leadership Institute will be led by So What Else/Project Change staff and So What Else/Project Change high school mentors. \nTuition for the in-person Student Leadership Institute is $125 per session. Please select only ONE session to attend. All registrations must be completed by July 8\, 2023. \nSession 1: July 11-13\nSession 2: July 25-27\nSession 3: August 8-10 \n10 a.m. to 3 p.m. for all sessions. \nClick Here To Register Today!
URL:https://sowhatelse.org/event/session-three-2023-student-leadership-institute-with-so-what-else-project-change/
LOCATION:St. Johns\, 3427 Olney Laytonsville Rd\, Olney\, Maryland\, 20832\, United States
END:VEVENT
BEGIN:VEVENT
DTSTART;TZID=UTC:20230729T100000
DTEND;TZID=UTC:20230729T233000
DTSTAMP:20260423T072713
CREATED:20230728T010239Z
LAST-MODIFIED:20230728T184510Z
UID:3109-1690624800-1690673400@sowhatelse.org
SUMMARY:Volunteers Needed! 2023 Citi Open Tennis Tournament
DESCRIPTION:SWE is staffing two merchandise tents at the 2023 Citi Open. The tents are enclosed and air-conditioned. Volunteers are able to enjoy the tennis (standing only) before or after their volunteer shift. This service qualifies for SSL credit. Volunteers will be helping to keep merchandise stocked and aiding customers with selections and use of the point of sale (POS) checkout system. There will be a morning\, afternoon\, and evening shift each day. Learn more and sign up on Volunteer Hub.
URL:https://sowhatelse.org/event/volunteers-needed-2023-citi-open-tennis-tournament/2023-07-29/
LOCATION:MD
END:VEVENT
BEGIN:VEVENT
DTSTART;TZID=UTC:20230728T080000
DTEND;TZID=UTC:20230728T180000
DTSTAMP:20260423T072713
CREATED:20230718T161704Z
LAST-MODIFIED:20230718T161738Z
UID:3077-1690531200-1690567200@sowhatelse.org
SUMMARY:Bike to the Beach - Volunteers Needed!
DESCRIPTION:Bike to the Beach is an annual charity ride to raise money and awareness for adults living with Autism and other disabilities that So What Else is proud to help support. This year we’re looking for volunteers to help us support the finish line of the event at the Dewey Beach Lions Club. Volunteers will help to welcome riders\, provide water and energy snacks\, and assist riders and supporters at the end of the race. To sign-up go to our Volunteer Hub https://sowhatelse.volunteerhub.com/vv2/
URL:https://sowhatelse.org/event/bike-to-the-beach/
LOCATION:MD
END:VEVENT
BEGIN:VEVENT
DTSTART;TZID=UTC:20230725T100000
DTEND;TZID=UTC:20230727T150000
DTSTAMP:20260423T072713
CREATED:20230508T172932Z
LAST-MODIFIED:20230508T172932Z
UID:2786-1690279200-1690470000@sowhatelse.org
SUMMARY:Session Two: 2023 Student Leadership Institute with So What Else/Project Change
DESCRIPTION:For Rising Sixth Through Rising Eighth Graders \nIn this interactive\, fun program\, participants will have the opportunity to participate in \n\nProject identification and planning of community service activities\nPersonal goal-setting and self-assessment\nLeadership skills development\nCompleting 3 community service projects\n\nThrough participation in this program\, youth will develop competencies in program planning and understand the value of participating in volunteer activities\, both personally and for the benefit of their community. \nStudents will receive 10 SSL Hours. \nThe Student Leadership Institute will be led by So What Else/Project Change staff and So What Else/Project Change high school mentors. \nTuition for the in-person Student Leadership Institute is $125 per session. Please select only ONE session to attend. All registrations must be completed by July 8\, 2023. \nSession 1: July 11-13\nSession 2: July 25-27\nSession 3: August 8-10 \n10 a.m. to 3 p.m. for all sessions. \nClick Here To Register Today!
URL:https://sowhatelse.org/event/session-two-2023-student-leadership-institute-with-so-what-else-project-change/
LOCATION:St. Johns\, 3427 Olney Laytonsville Rd\, Olney\, Maryland\, 20832\, United States
END:VEVENT
BEGIN:VEVENT
DTSTART;TZID=UTC:20230722T140000
DTEND;TZID=UTC:20230722T170000
DTSTAMP:20260423T072713
CREATED:20230718T012831Z
LAST-MODIFIED:20230718T012930Z
UID:3069-1690034400-1690045200@sowhatelse.org
SUMMARY:Love Bash - Baltimore\, MD
DESCRIPTION:In partnership with other organizations\, So What Else will be handing out produce at the July Giving Love Bash. Stop by for free food\, clothes\, home goods\, hygiene supplies\, and more. All items are free\, so take what you need while supplies last! \n  \n \n 
URL:https://sowhatelse.org/event/love-bash-baltimore-md/
LOCATION:MD
END:VEVENT
BEGIN:VEVENT
DTSTART;TZID=UTC:20230722T090000
DTEND;TZID=UTC:20230722T120000
DTSTAMP:20260423T072713
CREATED:20230606T044223Z
LAST-MODIFIED:20230606T044223Z
UID:2963-1690016400-1690027200@sowhatelse.org
SUMMARY:New MOCO Pantry Grand Opening & Open House
DESCRIPTION:You’re invited to the Grand Opening and Open House of our new Food Pantry in North Bethesda. Stop by for the ribbon cutting ceremony\, take a tour and celebrate the wonderful new home we’ve built on Wyaconda Rd.
URL:https://sowhatelse.org/event/new-moco-pantry-grand-opening-open-house/
LOCATION:MOCO Food Pantry\, 4924 Wyaconda Road\, Rockville\, MD\, 20852\, United States
END:VEVENT
BEGIN:VEVENT
DTSTART;TZID=UTC:20230721T090000
DTEND;TZID=UTC:20230721T160000
DTSTAMP:20260423T072713
CREATED:20230511T234457Z
LAST-MODIFIED:20230511T234457Z
UID:2842-1689930000-1689955200@sowhatelse.org
SUMMARY:Summer Olympics
DESCRIPTION:
URL:https://sowhatelse.org/event/summer-olympics/
LOCATION:Summer Olympics 2023\, 1233 Valley Avenue\, SE Washington DC\, DC\, 20032\, United States
END:VEVENT
BEGIN:VEVENT
DTSTART;TZID=UTC:20230719T170000
DTEND;TZID=UTC:20230719T180000
DTSTAMP:20260423T072713
CREATED:20230718T013247Z
LAST-MODIFIED:20230718T013316Z
UID:3073-1689786000-1689789600@sowhatelse.org
SUMMARY:Baltimore Men’s Health & Awareness Group
DESCRIPTION:Every Wednesday from 5-6 p.m.\n424 S Pulaski St\, Baltimore\, MD 21223\nUse the Ashton St door \nNo sign-up is required. No volunteers are needed at the moment. \nThe aim of this group is to give the men in the SouthWest Baltimore community a venue to talk about the issues they are dealing with and make their mental health a priority. Something that is often stigmatized\, especially among men. \nQuestions? You can contact Joe at 443-253-7258.
URL:https://sowhatelse.org/event/baltimore-mens-health-awareness-group/2023-07-19/
LOCATION:MD
END:VEVENT
BEGIN:VEVENT
DTSTART;TZID=UTC:20230711T100000
DTEND;TZID=UTC:20230713T150000
DTSTAMP:20260423T072713
CREATED:20230508T172757Z
LAST-MODIFIED:20230508T172838Z
UID:2778-1689069600-1689260400@sowhatelse.org
SUMMARY:Session One: 2023 Student Leadership Institute with So What Else/Project Change
DESCRIPTION:For Rising Sixth Through Rising Eighth Graders \nIn this interactive\, fun program\, participants will have the opportunity to participate in \n\nProject identification and planning of community service activities\nPersonal goal-setting and self-assessment\nLeadership skills development\nCompleting 3 community service projects\n\nThrough participation in this program\, youth will develop competencies in program planning and understand the value of participating in volunteer activities\, both personally and for the benefit of their community. \nStudents will receive 10 SSL Hours. \nThe Student Leadership Institute will be led by So What Else/Project Change staff and So What Else/Project Change high school mentors. \nTuition for the in-person Student Leadership Institute is $125 per session. Please select only ONE session to attend. All registrations must be completed by July 8\, 2023. \nSession 1: July 11-13\nSession 2: July 25-27\nSession 3: August 8-10 \n10 a.m. to 3 p.m. for all sessions. \nClick Here To Register Today!
URL:https://sowhatelse.org/event/session-one-2023-student-leadership-institute-with-so-what-else-project-change/
LOCATION:St. Johns\, 3427 Olney Laytonsville Rd\, Olney\, Maryland\, 20832\, United States
END:VEVENT
BEGIN:VEVENT
DTSTART;TZID=UTC:20230710T100000
DTEND;TZID=UTC:20230710T120000
DTSTAMP:20260423T072713
CREATED:20230705T170453Z
LAST-MODIFIED:20230705T170453Z
UID:3016-1688983200-1688990400@sowhatelse.org
SUMMARY:Community Food Distribution
DESCRIPTION:
URL:https://sowhatelse.org/event/community-food-distribution/
LOCATION:MD
END:VEVENT
BEGIN:VEVENT
DTSTART;TZID=UTC:20230710T093000
DTEND;TZID=UTC:20230809T153000
DTSTAMP:20260423T072713
CREATED:20230508T173620Z
LAST-MODIFIED:20230510T195353Z
UID:2792-1688981400-1691595000@sowhatelse.org
SUMMARY:2023 Team of Stars Summer Camp
DESCRIPTION:Team of Stars Summer Camp offers an intensive holistic curriculum\, blending the disciplines of musical theater (script-writing\, acting\, singing\, dancing\, and stagecraft) and Restorative Practices\, a community building/conflict-resolution approach using dialogue circles and exercises to address topics important to the campers\, e.g.\, bullying prevention\, overcoming obstacles\, mental health\, drugs\, love\, and stereotyping. \nAll activities are led by professional instructors. Parents are invited to view the final performance of an original musical theater work written and performed by the campers. \nDates: July 10-August 4 \nTimes: 9:30 a.m. to 3:30 p.m. \nClick Here To Register Today!
URL:https://sowhatelse.org/event/2023-team-of-stars-summer-camp/
LOCATION:St. Johns\, 3427 Olney Laytonsville Rd\, Olney\, Maryland\, 20832\, United States
END:VEVENT
BEGIN:VEVENT
DTSTART;TZID=UTC:20230630T093000
DTEND;TZID=UTC:20230630T150000
DTSTAMP:20260423T072713
CREATED:20230515T154629Z
LAST-MODIFIED:20230515T154629Z
UID:2847-1688117400-1688137200@sowhatelse.org
SUMMARY:Essex House Field Day
DESCRIPTION:We are kicking off summer with a day of fun and games with the students at our Essex House program site!
URL:https://sowhatelse.org/event/essex-house-field-day/
LOCATION:MD
END:VEVENT
END:VCALENDAR