BEGIN:VCALENDAR
VERSION:2.0
PRODID:-//So What Else Inc - ECPv6.15.20//NONSGML v1.0//EN
CALSCALE:GREGORIAN
METHOD:PUBLISH
X-WR-CALNAME:So What Else Inc
X-ORIGINAL-URL:https://sowhatelse.org
X-WR-CALDESC:Events for So What Else Inc
REFRESH-INTERVAL;VALUE=DURATION:PT1H
X-Robots-Tag:noindex
X-PUBLISHED-TTL:PT1H
BEGIN:VTIMEZONE
TZID:UTC
BEGIN:STANDARD
TZOFFSETFROM:+0000
TZOFFSETTO:+0000
TZNAME:UTC
DTSTART:20240101T000000
END:STANDARD
END:VTIMEZONE
BEGIN:VEVENT
DTSTART;TZID=UTC:20250120T100000
DTEND;TZID=UTC:20250120T150000
DTSTAMP:20260423T184902
CREATED:20241226T154343Z
LAST-MODIFIED:20250116T164027Z
UID:5244-1737367200-1737385200@sowhatelse.org
SUMMARY:MLK Day of Service
DESCRIPTION:Join our So What Else DC Team for a Day of Service! \nJanuary 20 at 1736 Marion Barry Ave SE Washington DC \nShifts to sign up to volunteer are here. \n  \nBe a part of an impactful day as we distribute fresh produce\, groceries\, and household goods and provide poetry to inspire and uplift our community. Volunteers will assist with unloading food pallets\, setting up and distributing items\, managing traffic and crowd control\, and supporting the takeaway meal distribution provided by local restaurants. \nThis event is outdoors\, so please dress for the weather and wear comfortable\, closed-toed shoes. Volunteers must be able to stand for long periods and perform physical tasks. Gloves and any necessary supplies will be provided.
URL:https://sowhatelse.org/event/mlk-day-of-service/
LOCATION:1736 Marion Barry SE Washington DC\, 1736 Marion Barry SE\, Washington DC\, United States
ATTACH;FMTTYPE=image/png:https://sowhatelse.org/wp-content/uploads/2024/12/Screen-Shot-2024-12-26-at-10.42.21-AM.png
END:VEVENT
END:VCALENDAR