BEGIN:VCALENDAR
VERSION:2.0
PRODID:-//So What Else Inc - ECPv6.15.20//NONSGML v1.0//EN
CALSCALE:GREGORIAN
METHOD:PUBLISH
X-ORIGINAL-URL:https://sowhatelse.org
X-WR-CALDESC:Events for So What Else Inc
REFRESH-INTERVAL;VALUE=DURATION:PT1H
X-Robots-Tag:noindex
X-PUBLISHED-TTL:PT1H
BEGIN:VTIMEZONE
TZID:UTC
BEGIN:STANDARD
TZOFFSETFROM:+0000
TZOFFSETTO:+0000
TZNAME:UTC
DTSTART:20240101T000000
END:STANDARD
END:VTIMEZONE
BEGIN:VEVENT
DTSTART;TZID=UTC:20250910T170000
DTEND;TZID=UTC:20250910T200000
DTSTAMP:20260423T055903
CREATED:20250902T160729Z
LAST-MODIFIED:20250902T160729Z
UID:5979-1757523600-1757534400@sowhatelse.org
SUMMARY:Partner & Sponsor Appreciation Event
DESCRIPTION:We are celebrating our SWE Partners\, Supporters\, & Volunteers! Join us on September 10 for an evening of connection and celebration.\n\n\n \n\n\nWe’ll come together to share stories\, reflect on our achievements\, and get energized for the upcoming event season.\n\n\n \n\n\nWhat to Expect:\n\n\n– Networking with fellow partners and supporters\n\n\n– Celebrating the incredible impact we’ve made together\n\n\n– Complimentary food & drinks\n\n\n \n\n\nInterested?\n\n\nEmail Allie for more details at abonney@sowhatelse.org
URL:https://sowhatelse.org/event/partner-sponsor-appreciation-event/
END:VEVENT
BEGIN:VEVENT
DTSTART;TZID=UTC:20250919T190000
DTEND;TZID=UTC:20250919T220000
DTSTAMP:20260423T055903
CREATED:20250902T155904Z
LAST-MODIFIED:20250902T155904Z
UID:5972-1758308400-1758319200@sowhatelse.org
SUMMARY:Charity Barrel's Bourbon Night
DESCRIPTION:Charity Barrel’s Preservation Distillery Bourbon Night Benefitting So What Else \nHosted at Porsche Studio Chevy Chase \nTickets: \n\nGeneral Admission $125\nVIP Experience $200\n\nCome join us and our friends from Preservation Distillery as they share tastings from their award winning line up of Bourbon\, Whiskies & Rye’s. Plus\, complimentary foods\, special cocktails & open bar. \nGet all of the details here!
URL:https://sowhatelse.org/event/charity-barrels-bourbon-night/
LOCATION:Porsche Studio Chevy Chase\, 5471 Wisconsin Ave.\, Chevy Chase\, 20815\, United States
END:VEVENT
END:VCALENDAR