BEGIN:VCALENDAR
VERSION:2.0
PRODID:-//So What Else Inc - ECPv6.15.20//NONSGML v1.0//EN
CALSCALE:GREGORIAN
METHOD:PUBLISH
X-WR-CALNAME:So What Else Inc
X-ORIGINAL-URL:https://sowhatelse.org
X-WR-CALDESC:Events for So What Else Inc
REFRESH-INTERVAL;VALUE=DURATION:PT1H
X-Robots-Tag:noindex
X-PUBLISHED-TTL:PT1H
BEGIN:VTIMEZONE
TZID:UTC
BEGIN:STANDARD
TZOFFSETFROM:+0000
TZOFFSETTO:+0000
TZNAME:UTC
DTSTART:20230101T000000
END:STANDARD
END:VTIMEZONE
BEGIN:VEVENT
DTSTART;TZID=UTC:20251004T083000
DTEND;TZID=UTC:20251004T150000
DTSTAMP:20260421T132856
CREATED:20250318T231646Z
LAST-MODIFIED:20250318T231729Z
UID:5473-1759566600-1759590000@sowhatelse.org
SUMMARY:MoCo Cares Charity Race 2025
DESCRIPTION:From LaunchCares: \nWe are excited to host this event and to interact with local community members and businesses.  This race has grown from being a small community event (previously called LaunchCARES Charity Race) to a county-wide effort of uniting people and companies who CARE.  We are thrilled to announce the charity recipients of the 2025 race – – – SO WHAT ELSE and COVENANT LIFE SCHOOL (our location host)!  Both of these organizations work diligently to improve the lives of children in and around MoCo. \nYour participation/donation is tax deductible. \nAfter the races are over we will work together on a service project to pack non-perishable food boxes.  SO WHAT ELSE distributes thousands of meals for the Thanksgiving holiday. We will jumpstart their efforts this year by packing the non-perishables into boxes.  Students participating in this will receive SSL hours for their time of service. \nIt is our goal is to raise $100\,000 with this event in 2025.   \nYOU are helping make this a reality. \nYOU are helping to change lives of children and local families!!! \nSign up here!
URL:https://sowhatelse.org/event/moco-cares-charity-race-2025/
LOCATION:7503 Muncaster Mill Road Gaithersburg\, MD US 20877\, 7503 Muncaster Mill Road\, Gaithersburg\, Maryland\, 20877\, United States
END:VEVENT
BEGIN:VEVENT
DTSTART;TZID=UTC:20241005T083000
DTEND;TZID=UTC:20241005T120000
DTSTAMP:20260421T132856
CREATED:20240722T172004Z
LAST-MODIFIED:20240919T191117Z
UID:4763-1728117000-1728129600@sowhatelse.org
SUMMARY:MoCo CARES Charity Race
DESCRIPTION:Thank you for registering for our 3rd annual charity race!  We are excited to host this event and to interact with local community members and businesses.  This race has grown from being a small community event (previously called LaunchCARES Charity Race) to a county-wide effort of uniting Companies Who CARE. \nWe are thrilled to announce the charity recipients of the 2024 race – – – SO WHAT ELSE and COVENANT LIFE SCHOOL (our location host)!  Both of these organizations work diligently to improve the lives of children in and around the DMV.  Let’s show them our support.  Your participation/donation is tax deductible. \nAfter the races are over we will work together on a service project to pack non-perishable food boxes for Thanksgiving.  SO WHAT ELSE distributes thousands of meals for Thanksgiving.  We will jumpstart their efforts this year by packing the non-perishables into boxes.  Students participating in this will receive SSL hours for their time of service.
URL:https://sowhatelse.org/event/moco-cares-charity-race/
LOCATION:7503 Muncaster Mill Road Gaithersburg\, MD US 20877\, 7503 Muncaster Mill Road\, Gaithersburg\, Maryland\, 20877\, United States
CATEGORIES:Fundraising event
ATTACH;FMTTYPE=application/pdf:https://sowhatelse.org/wp-content/uploads/2024/07/2024-MoCo-CARES-Race-Flyer-QR-Code.pdf
END:VEVENT
END:VCALENDAR