BEGIN:VCALENDAR
VERSION:2.0
PRODID:-//So What Else Inc - ECPv6.15.20//NONSGML v1.0//EN
CALSCALE:GREGORIAN
METHOD:PUBLISH
X-ORIGINAL-URL:https://sowhatelse.org
X-WR-CALDESC:Events for So What Else Inc
REFRESH-INTERVAL;VALUE=DURATION:PT1H
X-Robots-Tag:noindex
X-PUBLISHED-TTL:PT1H
BEGIN:VTIMEZONE
TZID:UTC
BEGIN:STANDARD
TZOFFSETFROM:+0000
TZOFFSETTO:+0000
TZNAME:UTC
DTSTART:20210101T000000
END:STANDARD
END:VTIMEZONE
BEGIN:VEVENT
DTSTART;VALUE=DATE:20251027
DTEND;VALUE=DATE:20251028
DTSTAMP:20260421T150628
CREATED:20250318T231824Z
LAST-MODIFIED:20251023T145910Z
UID:5476-1761523200-1761609599@sowhatelse.org
SUMMARY:Annual So What Else Golf & Pickleball Tournament
DESCRIPTION:Save the date and plan to join us on October 27th for a fun day of friendly competition\, delicious food\, and more at the SWE & Mamma Lucia’s 9th Annual Golf & Pickleball Tournament! \nOctober 27th\, 2025  \n\nGolf Tournament Schedule:\n8 AM – 9AM Registration\n9AM Shotgun Start\n9AM – 3PM Golf Tournament\n2PM – 4PM Reception \nPickleball Tournament Schedule:\n9:00–10:00 AM: Breakfast and Welcome\n10:00 AM–12:30 PM: Round Robin and Tournament Play\n12:30 PM: Sausages on the Turn- stay and enjoy lunch with us!\nEveryone is also welcome to join us afterward for the Golf Reception. \n\nGet all of the details here!
URL:https://sowhatelse.org/event/annual-so-what-else-golf-tournament/
LOCATION:Norbeck Country Club\, 1720 Cashell Road\, Rockville\, MD\, 20853\, United States
CATEGORIES:Fundraising event
END:VEVENT
BEGIN:VEVENT
DTSTART;TZID=UTC:20241028T090000
DTEND;TZID=UTC:20241028T160000
DTSTAMP:20260421T150628
CREATED:20240212T202717Z
LAST-MODIFIED:20240919T191329Z
UID:4020-1730106000-1730131200@sowhatelse.org
SUMMARY:So What Else & Mamma Lucia Annual Golf and Pickleball Tournament
DESCRIPTION:Play golf for a good cause!\nMark your calendar to “play it forward” by taking part in the 8th Annual SWE/Mamma Lucia Golf and Pickleball Tournament at Norbeck Country Club on October 28\, 2024.\nThere will breakfast\, lunch\, and prizes for all who participate. Thanks to our wonderful 2023 sponsors and players\, the tournament raised nearly $80\,000 last year.  With the ever increasing need for food security and accessible youth programming\, we are counting on meeting – and beating – that target again. \nThis year we will be simultaneously hosting our second pickle ball tournament! Beginner and Intermediate teams available. \n  \nSign up here!
URL:https://sowhatelse.org/event/so-what-else-mamma-lucia-8th-annual-golf-tournament/
LOCATION:Norbeck Country Club\, 1720 Cashell Road\, Rockville\, MD\, 20853\, United States
CATEGORIES:Fundraising event
ATTACH;FMTTYPE=image/png:https://sowhatelse.org/wp-content/uploads/2024/09/8th-Annual-Golf-Pickleball-Tournament-Flyer-Instagram-Post.png
END:VEVENT
BEGIN:VEVENT
DTSTART;TZID=UTC:20231023T080000
DTEND;TZID=UTC:20231023T160000
DTSTAMP:20260421T150628
CREATED:20230725T195137Z
LAST-MODIFIED:20230725T195359Z
UID:3092-1698048000-1698076800@sowhatelse.org
SUMMARY:So What Else & Mamma Lucia's 7th Annual Golf Tournament
DESCRIPTION:Please save the date and plan to join us on October 23rd for a fun day of friendly competition\, delicious food\, and more! \nPlay golf for a good cause! Mark your calendar to “play it forward” by taking part in the 7th Annual SWE/Mamma Lucia Golf Tournament at Norbeck Country Club on October 23\, 2023.  There will be breakfast\, lunch\, and prizes for all who participate. Thanks to our wonderful 2022 sponsors and players\, the tournament raised nearly $75\,000 last year.  With the ever-increasing need for food security and accessible youth programming\, we are counting on meeting – and beating – that target again.  \nThis year we will be simultaneously hosting our first pickleball tournament! Beginner and Intermediate teams are available. \nClick here to learn more\, register\, sponsor\, or donate in support here!
URL:https://sowhatelse.org/event/so-what-else-mamma-lucias-7th-annual-golf-tournament/
LOCATION:Norbeck Country Club\, 1720 Cashell Road\, Rockville\, MD\, 20853\, United States
END:VEVENT
BEGIN:VEVENT
DTSTART;TZID=UTC:20221024T080000
DTEND;TZID=UTC:20221024T160000
DTSTAMP:20260421T150628
CREATED:20220727T202508Z
LAST-MODIFIED:20221005T153724Z
UID:1823-1666598400-1666627200@sowhatelse.org
SUMMARY:Join us! So What Else & Mamma Lucia's 6th Annual Golf Tournament!
DESCRIPTION:Play golf for a good cause! Mark your calendar to “play it forward” by taking part in the 5th Annual SWE/Mamma Lucia Golf Tournament at Norbeck Country Club on October 24\, 2022. There will be breakfast\, lunch\, and prizes for all who participate. \nThanks to our wonderful 2021 sponsors and players\, the tournament raised nearly $75\,000 last year. With the ever-increasing need for food security and accessible youth programming\, we are counting on meeting – and beating – that target again. \nRegister and donate today!
URL:https://sowhatelse.org/event/save-the-date-for-swe-and-mamma-lucias-6th-annual-golf-tournament/
LOCATION:Norbeck Country Club\, 1720 Cashell Road\, Rockville\, MD\, 20853\, United States
END:VEVENT
END:VCALENDAR